BEGIN:VCALENDAR
VERSION:2.0
PRODID:-//ChamberMaster//Event Calendar 2.0//EN
METHOD:PUBLISH
X-PUBLISHED-TTL:P3D
REFRESH-INTERVAL:P3D
CALSCALE:GREGORIAN
BEGIN:VEVENT
DTSTART:20240809T200000Z
DTEND:20240810T000000Z
X-MICROSOFT-CDO-ALLDAYEVENT:FALSE
SUMMARY:16th Annual Bay Area Energize Golf Outing
DESCRIPTION:Event: 16th Annual Bay Area Energize Golf Outing\n\nDate: Friday\, August 9\, 2024 \n\nTime: 4:00 P.M. Check-In and 4:30 P.M. Shotgun Start \n\n \n\nLocation: Maple Leaf Golf Course \n\n158 N. Mackinaw\, Linwood\n\n \n\nCost:\n\n$40 per person and includes: \n\n	9 holes w/cart\n	Giveaways\n	Dinner and two drink tickets  \n\nGolfers must be young professionals ages 21-40. \n\n\n\nSponsorships: (Secure you sponsorship by clicking the 'Register' button). \n\n\n	SOLD - Dinner Sponsor (1 Available): Your logo on the Facebook Event and BACC website registration\, verbal recognition at dinner and logo on table tents at dinner\, $500  \n	SOLD - Drink Sponsor (1 Available): Your logo on the Facebook Event and BACC website registration\, verbal recognition at dinner and logo on table tents at dinner\, $500\n	SOLD- Award Sponsor (1 Available): Recognition at dinner and logo on table tents at dinner\, $200\n	ALL SOLD-Hole Sponsor (9 Available): Your logo on a yard sign at a hole with a gift basket/gift certificate donation valued at $50 or more \n\nGift basket and gift certificate donations can be dropped off at the Bay Area Chamber office located at 812 N Water Street\, no later than Friday August 2\, 2024.
X-ALT-DESC;FMTTYPE=text/html:<span style="font-size:14px\;"><span style="font-family:tahoma\;"><strong>&nbsp\;<br />\nEvent:</strong> 16th Annual Bay Area Energize Golf Outing<br />\n<strong>Date</strong>: Friday\, August 9\, 2024&nbsp\;<br />\n<strong>Time:</strong> 4:00 P.M. Check-In and 4:30 P.M. Shotgun Start&nbsp\;<br />\n&nbsp\;<br />\n<strong>Location:</strong> Maple Leaf Golf Course&nbsp\;<br />\n158 N. Mackinaw\, Linwood<br />\n&nbsp\;<br />\n<strong>Cost:</strong><br />\n$40 per person and includes:&nbsp\;</span></span>\n<ul>\n	<li><span style="font-size:14px\;"><span style="font-family:tahoma\;">9 holes w/cart</span></span></li>\n	<li><span style="font-size:14px\;"><span style="font-family:tahoma\;">Giveaways</span></span></li>\n	<li><span style="font-size:14px\;"><span style="font-family:tahoma\;">Dinner and two drink tickets&nbsp\; </span></span></li>\n</ul>\n<font face="tahoma"><span style="font-size: 14px\;"><span style="color:#FF0000\;">Golfers must be young professionals ages 21-40.</span>&nbsp\;</span></font><br />\n<br />\n<span style="font-size:14px\;"><span style="font-family:tahoma\;"><strong>Sponsorships: (Secure you sponsorship by clicking the &#39\;Register&#39\; button).&nbsp\;</strong></span></span>\n\n<ul>\n	<li style="background-image:initial\;background-position:initial\;background-size:initial\;background-repeat:initial\;background-origin:initial\;background-clip:initial\;"><span style="font-size:14px\;"><span style="font-family:tahoma\;"><strong><span style="color:#FF0000\;">SOLD</span> - Dinner Sponsor</strong>&nbsp\;(1 Available): Your logo on the Facebook Event and BACC website registration\, verbal recognition at dinner and logo on table tents at dinner\,<strong>&nbsp\;$500&nbsp\;&nbsp\;</strong></span></span></li>\n	<li><span style="font-size:14px\;"><span style="font-family:tahoma\;"><strong><span style="color:#FF0000\;">SOLD&nbsp\;</span>- Drink Sponsor&nbsp\;</strong>(1 Available): Your logo on the Facebook Event and BACC website registration\, verbal recognition at dinner and logo on table tents at dinner\,&nbsp\;<strong>$500</strong></span></span></li>\n	<li><strong style="font-family: tahoma\; font-size: 14px\;"><span style="color: rgb(255\, 0\, 0)\;">SOLD-&nbsp\;</span></strong><span style="font-size:14px\;"><span style="font-family:tahoma\;"><strong>Award Sponsor&nbsp\;</strong>(1 Available): Recognition at dinner and logo on table tents at dinner\,&nbsp\;<strong>$200</strong></span></span></li>\n	<li><strong style="font-family: tahoma\; font-size: 14px\;"><span style="color: rgb(255\, 0\, 0)\;">ALL SOLD-</span></strong><span style="font-size:14px\;"><span style="font-family:tahoma\;"><strong>Hole Sponsor</strong>&nbsp\;(9 Available): Your logo on a yard sign at a hole with a gift basket/gift certificate donation valued at&nbsp\;<strong>$50 or more&nbsp\;</strong></span></span></li>\n</ul>\n<em><span style="font-size:14px\;"><span style="font-family:tahoma\;">Gift basket and gift certificate donations can be dropped off at the Bay Area Chamber office located at 812 N Water Street\, no later than Friday August 2\, 2024.</span></span></em>
LOCATION:
UID:e.3227.8044
SEQUENCE:3
DTSTAMP:20260420T120537Z
URL:https://www.baycityarea.com/events/details/16th-annual-bay-area-energize-golf-outing-8044
END:VEVENT

END:VCALENDAR
