BEGIN:VCALENDAR
VERSION:2.0
PRODID:-//ChamberMaster//Event Calendar 2.0//EN
METHOD:PUBLISH
X-PUBLISHED-TTL:P3D
REFRESH-INTERVAL:P3D
CALSCALE:GREGORIAN
BEGIN:VEVENT
DTSTART:20231028T153000Z
DTEND:20231028T180000Z
X-MICROSOFT-CDO-ALLDAYEVENT:FALSE
SUMMARY:Downtown Bay City Treats & Treasures
DESCRIPTION:Come out to Downtown Bay City on Saturday\, October 28th from 11:30 - 2 PM for Treats & Treasures. Trick or treat at some of your favorite businesses Downtown in your festive fall gear or your costume if you wish!\n\n \n\nAmericana Company Antiques\n\n912 N. Water St.\n\n \n\nartigiano artisan cheese shoppe\n\n815 Saginaw St.\n\n \n\nB Envied\n\n807 Adams St.\n\n \n\nBelieve Inspire Beauty Boutique & Market\n\n906 Washington Ave.\n\n \n\nDoubleTree by Hilton Bay City Riverfront\n\nOne\, Wenonah Park Place\n\n \n\nDowntown Management Board & DHHS\n\n913 Washington Ave.\n\n \n\nFerne Boutique\n\n922 Washington Ave.\n\n \n\nFirst Look Bridal Boutique\n\n908 Washington Ave.\n\n \n\nHerman Hiss & Company\n\n905 Washington Ave.\n\n \n\nLittle House\n\n924 N Water St.\n\n \n\nLittle Pastry Shop\n\n401 Center Ave.\n\n \n\nMy Secret Garden\n\n600 Saginaw St.\n\n \n\nOnyx Aesthetics\n\n107 5th St.\n\n \n\nPainterly Pottery\n\n923 N Water St.\n\n \n\nPopulace Coffee\n\n810 Saginaw St.\n\n \n\nPure Medical Spa\n\n201 Sixth St.\n\n \n\nRegent Floral & Mercantile\n\n924 Washington Ave.\n\n \n\nSaginaw Bay Trading Company\n\n601 Washington Ave.\n\n \n\nSarah's Sweet Escapes\n\n811 Saginaw St.\n\n \n\nStudio 23\n\n901 N Water St.\n\n \n\nThe Vintage Greenhouse\n\n925 N Water St.
X-ALT-DESC;FMTTYPE=text/html:<div>Come out to Downtown Bay City on Saturday\, October 28th from 11:30 - 2 PM for Treats &amp\; Treasures. Trick or treat at some of your favorite businesses Downtown in your festive fall gear or your costume if you wish!<br />\n&nbsp\;</div>\n\n<div>Americana Company Antiques<br />\n912 N. Water St.<br />\n&nbsp\;</div>\n\n<div>artigiano artisan cheese shoppe<br />\n815 Saginaw St.<br />\n&nbsp\;</div>\n\n<div>B Envied<br />\n807 Adams St.<br />\n&nbsp\;</div>\n\n<div>Believe Inspire Beauty Boutique &amp\; Market<br />\n906 Washington Ave.<br />\n&nbsp\;</div>\n\n<div>DoubleTree by Hilton Bay City Riverfront<br />\nOne\, Wenonah Park Place<br />\n&nbsp\;</div>\n\n<div>Downtown Management Board &amp\; DHHS<br />\n913 Washington Ave.<br />\n&nbsp\;</div>\n\n<div>Ferne Boutique<br />\n922 Washington Ave.<br />\n&nbsp\;</div>\n\n<div>First Look Bridal Boutique<br />\n908 Washington Ave.<br />\n&nbsp\;</div>\n\n<div>Herman Hiss &amp\; Company<br />\n905 Washington Ave.<br />\n&nbsp\;</div>\n\n<div>Little House<br />\n924 N Water St.<br />\n&nbsp\;</div>\n\n<div>Little Pastry Shop<br />\n401 Center Ave.<br />\n&nbsp\;</div>\n\n<div>My Secret Garden<br />\n600 Saginaw St.<br />\n&nbsp\;</div>\n\n<div>Onyx Aesthetics<br />\n107 5th St.<br />\n&nbsp\;</div>\n\n<div>Painterly Pottery<br />\n923 N Water St.<br />\n&nbsp\;</div>\n\n<div>Populace Coffee<br />\n810 Saginaw St.<br />\n&nbsp\;</div>\n\n<div>Pure Medical Spa<br />\n201 Sixth St.<br />\n&nbsp\;</div>\n\n<div>Regent Floral &amp\; Mercantile<br />\n924 Washington Ave.<br />\n&nbsp\;</div>\n\n<div>Saginaw Bay Trading Company<br />\n601 Washington Ave.<br />\n&nbsp\;</div>\n\n<div>Sarah&#39\;s Sweet Escapes<br />\n811 Saginaw St.<br />\n&nbsp\;</div>\n\n<div>Studio 23<br />\n901 N Water St.<br />\n&nbsp\;</div>\n\n<div>The Vintage Greenhouse<br />\n925 N Water St.</div>\n
LOCATION:
UID:e.3227.7045
SEQUENCE:3
DTSTAMP:20260422T121927Z
URL:https://www.baycityarea.com/events/details/downtown-bay-city-treats-treasures-7045
END:VEVENT

END:VCALENDAR
