BEGIN:VCALENDAR
VERSION:2.0
PRODID:-//ChamberMaster//Event Calendar 2.0//EN
METHOD:PUBLISH
X-PUBLISHED-TTL:P3D
REFRESH-INTERVAL:P3D
CALSCALE:GREGORIAN
BEGIN:VEVENT
DTSTART:20231104T160000Z
DTEND:20231105T030000Z
X-MICROSOFT-CDO-ALLDAYEVENT:FALSE
SUMMARY:Fight Night
DESCRIPTION:This is a new bi-monthly event happening in Tri-city area here in Bay City. $5 venue fee to participate. Mortal Kombat 1 and Street Fighter 6 will be played on PS5. This event is run by the help of volunteers and TOs to provide setups. Please bring a setup if you can with all the DLC available. If you provide a setup\, venue fee will be waived. The more setups the better! Don't play any of the games listed? Bring whatever you want! You are more than welcome to bring games and get others to have sets with! Follow the attached event link for more details!!
X-ALT-DESC;FMTTYPE=text/html:This is a new bi-monthly event happening in Tri-city area here in Bay City. $5 venue fee to participate. Mortal Kombat 1 and Street Fighter 6 will be played on PS5. This event is run by the help of volunteers and TOs to provide setups. Please bring a setup if you can with all the DLC available. If you provide a setup\, venue fee will be waived. The more setups the better! Don&#39\;t play any of the games listed? Bring whatever you want! You are more than welcome to bring games and get others to have sets with! Follow the attached event link for more details!!
LOCATION:LoLoBee's Coffee & Tea Lounge 106 S Linn St Unit A Bay City\, MI 48706
UID:e.3227.7037
SEQUENCE:3
DTSTAMP:20260425T123609Z
URL:https://www.baycityarea.com/events/details/fight-night-7037
END:VEVENT

END:VCALENDAR
