BEGIN:VCALENDAR
VERSION:2.0
PRODID:-//ChamberMaster//Event Calendar 2.0//EN
METHOD:PUBLISH
X-PUBLISHED-TTL:P3D
REFRESH-INTERVAL:P3D
CALSCALE:GREGORIAN
BEGIN:VEVENT
DTSTART:20260613T130000Z
DTEND:20260613T170000Z
X-MICROSOFT-CDO-ALLDAYEVENT:FALSE
SUMMARY:Golf Scramble - Bay City Cooperative Market
DESCRIPTION:Participants can look forward to a golf scramble with hole games and prizes\, breakfast snacks & coffee/juice at registration\, brats/hot dogs chips/water at the turn. The event will help to raise funds for the cooperative's startup costs as it works towards building a community-owned market in Bay City.
X-ALT-DESC;FMTTYPE=text/html:<span style="font-family:arial\,sans-serif"><span style="font-size:11.0pt">Participants can look forward to a golf scramble with hole games and prizes\, breakfast snacks &amp\; coffee/juice at registration\, brats/hot dogs chips/water at the turn. The event&nbsp\;</span></span><span style="font-family:arial\,sans-serif"><span style="font-size:11.0pt">will help to raise funds for the cooperative&rsquo\;s startup costs as it works towards building a community-owned market in Bay City.</span></span>
LOCATION:Sandy Ridge Golf Course 2750 Lauria Road\, Midland\, MI 48642
UID:e.3227.9866
SEQUENCE:3
DTSTAMP:20260421T063750Z
URL:https://www.baycityarea.com/events/details/golf-scramble-bay-city-cooperative-market-9866
END:VEVENT

END:VCALENDAR
