BEGIN:VCALENDAR
VERSION:2.0
PRODID:-//ChamberMaster//Event Calendar 2.0//EN
METHOD:PUBLISH
X-PUBLISHED-TTL:P3D
REFRESH-INTERVAL:P3D
CALSCALE:GREGORIAN
BEGIN:VEVENT
DTSTART:20240309T203000Z
DTEND:20240310T030000Z
X-MICROSOFT-CDO-ALLDAYEVENT:FALSE
SUMMARY:Hockey for the Homeless 2024
DESCRIPTION:Please JOIN US for an evening of family fun and Saginaw Spirit hockey to raise funds for our Samaritan Youth Services.\n\n \n\nSchedule:\n\n3:30pm - Broomball Hockey Challenge\n\n5:45pm - Pre-game Concert & Family Activities\n\n7:05pm - Saginaw Spirit Hockey Game!\n\n \n\nPresented by Glastender\, Inc.
X-ALT-DESC;FMTTYPE=text/html:<div>Please JOIN US for an evening of family fun and Saginaw Spirit hockey to raise funds for our Samaritan Youth Services.<br />\n&nbsp\;</div>\n\n<div>Schedule:<br />\n3:30pm - Broomball Hockey Challenge<br />\n5:45pm - Pre-game Concert &amp\; Family Activities<br />\n7:05pm - Saginaw Spirit Hockey Game!<br />\n&nbsp\;</div>\n\n<div>Presented by Glastender\, Inc.</div>\n
LOCATION:The Dow Event Center\, 303 Johnson St.\, Saginaw\, MI 48607
UID:e.3227.7386
SEQUENCE:3
DTSTAMP:20260420T160957Z
URL:https://www.baycityarea.com/events/details/hockey-for-the-homeless-2024-7386
END:VEVENT

END:VCALENDAR
