BEGIN:VCALENDAR
VERSION:2.0
PRODID:-//ChamberMaster//Event Calendar 2.0//EN
METHOD:PUBLISH
X-PUBLISHED-TTL:P3D
REFRESH-INTERVAL:P3D
CALSCALE:GREGORIAN
BEGIN:VEVENT
DTSTART:20220623T213000Z
DTEND:20220624T003000Z
X-MICROSOFT-CDO-ALLDAYEVENT:FALSE
SUMMARY:McLaren Bay Medical Foundation Dinner Around the World
DESCRIPTION:This year's Dinner Around the World event\, presented by Dow\, is returning and promising to be better than ever! It will be an international gourmet delight featuring cuisine from 10 different counties\, raffles and an outstanding silent auction. We are expecting about 300 attendees. This year's proceeds will support the innovation\, compassion and education that drives the advancement of healthcare in our community.   Innovation happens when you find a new way to overcome a current obstacle. The latest technology in medical equipment provides innovative ways to save lives and support medical staff.   Compassion is the desire to help relieve the suffering of others. Providing primary healthcare to those who cannot afford care or insurance gives improved healthcare outcomes and quality of life to those in need.   Education helps to improve knowledge\, skills and confidence. Scholarships and training opportunities for nurses and technicians ensures our medical personnel are highly trained and educated. This results in a safer and healthier community for all of us.
X-ALT-DESC;FMTTYPE=text/html:This year&rsquo\;s Dinner Around the World event\, presented by Dow\, is returning and promising to be better than ever! It will be an international gourmet delight featuring cuisine from 10 different counties\, raffles and an outstanding silent auction. We are expecting about 300 attendees. This year&rsquo\;s proceeds will support the innovation\, compassion and education that drives the advancement of healthcare in our community. &bull\; Innovation happens when you find a new way to overcome a current obstacle. The latest technology in medical equipment provides innovative ways to save lives and support medical staff. &bull\; Compassion is the desire to help relieve the suffering of others. Providing primary healthcare to those who cannot afford care or insurance gives improved healthcare outcomes and quality of life to those in need. &bull\; Education helps to improve knowledge\, skills and confidence. Scholarships and training opportunities for nurses and technicians ensures our medical personnel are highly trained and educated. This results in a safer and healthier community for all of us.
LOCATION:The Grand Banquet & Conference Center\, Essexville
UID:e.3227.5283
SEQUENCE:3
DTSTAMP:20260420T080743Z
URL:https://www.baycityarea.com/events/details/mclaren-bay-medical-foundation-dinner-around-the-world-5283
END:VEVENT

END:VCALENDAR
