BEGIN:VCALENDAR
VERSION:2.0
PRODID:-//ChamberMaster//Event Calendar 2.0//EN
METHOD:PUBLISH
X-PUBLISHED-TTL:P3D
REFRESH-INTERVAL:P3D
CALSCALE:GREGORIAN
BEGIN:VEVENT
DTSTART:20191208T190000Z
DTEND:20191208T210000Z
X-MICROSOFT-CDO-ALLDAYEVENT:FALSE
SUMMARY:Men of Music Christmas Concert
DESCRIPTION:Located at First United Methodist Church\, Midland The laughs come a mile a minute in this great family-friendly show that's filled with funny banter and musical excellence. Directed by Grace Marra
X-ALT-DESC;FMTTYPE=text/html:Located at First United Methodist Church\, Midland The laughs come a mile a minute in this great family-friendly show that&rsquo\;s filled with funny banter and musical excellence. Directed by Grace Marra
LOCATION:315 W Larkin St\, Midland\, MI 48640
UID:e.3227.4095
SEQUENCE:3
DTSTAMP:20260419T154435Z
URL:https://www.baycityarea.com/events/details/men-of-music-christmas-concert-4095
END:VEVENT

END:VCALENDAR
