BEGIN:VCALENDAR
VERSION:2.0
PRODID:-//ChamberMaster//Event Calendar 2.0//EN
METHOD:PUBLISH
X-PUBLISHED-TTL:P3D
REFRESH-INTERVAL:P3D
CALSCALE:GREGORIAN
BEGIN:VEVENT
DTSTART:20230926T223000Z
DTEND:20230927T010000Z
X-MICROSOFT-CDO-ALLDAYEVENT:FALSE
SUMMARY:Rescue Ministries Annual Anniversary Dinner Gala
DESCRIPTION:Each year we celebrate in style the people that have impacted us and our community in the previous twelve months including our very own faithful staff\, the many kind-hearted volunteers\, and our generous community partnerships. Post this event on your activity calendar  at home\, at church\, at work.\n\nEvent Details\n\nDate: September 26\, 2023 | Tuesday | 6:30pm\n\nVenue: Horizons Conference Center\, 6200 State Street\, Saginaw Township\n\nIndividual Tickets: Only $35\n\nGroup Tickets: $250 for a table of 8.\n\nReservation Deadline: September 15   LIMITED SEATING. Table sponsorships available!\n\nGuest Speaker Jo Saxon\n\nJo Saxton is a speaker\, podcaster\, author\, guest TV host and leadership coach. She hosts a digital coaching community and is the founder of the Ezer Collective\, two initiatives dedicated to investing in women leaders around the world.\n\nBorn to Nigerian parents and raised in London\, England\, Jo now lives in Minneapolis with her husband and two daughters. She loves the everyday stuff like good music\, good food\, and good friends.
X-ALT-DESC;FMTTYPE=text/html:<p><span style="font-size:14px"><strong>Each year we celebrate in style</strong><span style="font-family:lato\,sans-serif">&nbsp\;the people that have impacted us and our community in the previous twelve months including our very own faithful staff\, the many kind-hearted volunteers\, and our generous community partnerships. Post this event on your activity calendar&hellip\; at home\, at church\, at work.</span></span></p>\n\n<h2>Event Details</h2>\n\n<p><span style="font-size:14px"><strong>Date:</strong>&nbsp\;September 26\, 2023 | Tuesday | 6:30pm<br />\n<strong>Venue:</strong>&nbsp\;Horizons Conference Center\, 6200 State Street\, Saginaw Township<br />\n<strong>Individual Tickets:</strong>&nbsp\;Only $35<br />\n<strong>Group Tickets:</strong>&nbsp\;$250 for a table of 8.<br />\n<strong>Reservation Deadline:</strong>&nbsp\;September 15 &ndash\; LIMITED SEATING. Table sponsorships available!</span></p>\n\n<h2>Guest Speaker Jo Saxon</h2>\n\n<p><span style="font-size:14px">Jo Saxton is a speaker\, podcaster\, author\, guest TV host and leadership coach. She hosts a digital coaching community and is the founder of the Ezer Collective\, two initiatives dedicated to investing in women leaders around the world.</span></p>\n\n<p><span style="font-size:14px">Born to Nigerian parents and raised in London\, England\, Jo now lives in Minneapolis with her husband and two daughters. She loves the everyday stuff like good music\, good food\, and good friends.</span></p>\n
LOCATION:Horizons Conference Center\, 6200 State Street\, Saginaw Township
UID:e.3227.6857
SEQUENCE:3
DTSTAMP:20260420T080803Z
URL:https://www.baycityarea.com/events/details/rescue-ministries-annual-anniversary-dinner-gala-6857
END:VEVENT

END:VCALENDAR
