BEGIN:VCALENDAR
VERSION:2.0
PRODID:-//ChamberMaster//Event Calendar 2.0//EN
METHOD:PUBLISH
X-PUBLISHED-TTL:P3D
REFRESH-INTERVAL:P3D
CALSCALE:GREGORIAN
BEGIN:VEVENT
DTSTART:20221208T210000Z
DTEND:20221208T220000Z
X-MICROSOFT-CDO-ALLDAYEVENT:FALSE
SUMMARY:Ribbon Cutting: Bay City Western High School
DESCRIPTION:Join us for a Ribbon Cutting to celebrate their new gymnasium!\n\n\n\nWhere:\n\nWestern High School\n\n500 W. Midland Road\n\nAuburn\, MI 48611\n\n\n\nWhen:\n\nThursday\, December 8\, 20224:00 p.m.\n\n\n\nFree to attend. Registration is not required.
X-ALT-DESC;FMTTYPE=text/html:<span style="color:#000000\;">&nbsp\;<br />\nJoin us for a Ribbon Cutting to celebrate their new gymnasium!<br />\n<br />\n<strong>Where:</strong><br />\nWestern High School<br />\n500 W. Midland Road<br />\nAuburn\, MI 48611<br />\n<br />\n<strong>When:</strong><br />\nThursday\, December 8\, 20224:00 p.m.<br />\n<br />\n<em>Free to attend. Registration is not required.</em></span>
LOCATION:Western High School 500 W. Midland Road Auburn\, MI 48611
UID:e.3227.5664
SEQUENCE:3
DTSTAMP:20260421T203214Z
URL:https://www.baycityarea.com/events/details/ribbon-cutting-bay-city-western-high-school-5664
END:VEVENT

END:VCALENDAR
