BEGIN:VCALENDAR
VERSION:2.0
PRODID:-//ChamberMaster//Event Calendar 2.0//EN
METHOD:PUBLISH
X-PUBLISHED-TTL:P3D
REFRESH-INTERVAL:P3D
CALSCALE:GREGORIAN
BEGIN:VEVENT
DTSTART:20260519T190000Z
DTEND:20260519T210000Z
X-MICROSOFT-CDO-ALLDAYEVENT:FALSE
SUMMARY:Ribbon Cutting: Toni & Trish House
DESCRIPTION:Come join us to celebrate the renovations made to Toni & Trish House with a Ribbon Cutting! There will be an open house from 3-6pm with the Ribbon Cutting at 4pm. \n\n\n\nWhere:\n\nToni & Trish House\n\n4699 11 Mile Rd.\n\nAuburn\, MI 48611 \n\n\n\nWhen:\n\nOpen House from 3pm-6pm\n\nRibbon Cutting 4pm\n\nTuesday\, May 19th\, 2026\n\n\n\nThis is free to attend. Registration is not required.
X-ALT-DESC;FMTTYPE=text/html:<span style="color:#000000\;"><span style="font-size:12px\;"><span style="font-size:14px\;">Come join us to celebrate the renovations made to Toni &amp\; Trish House with a Ribbon Cutting! There will be an open house from 3-6pm with the Ribbon Cutting at 4pm.&nbsp\;</span></span><br />\n<br />\n<strong>Where:</strong><br />\nToni &amp\; Trish House<br />\n4699 11 Mile Rd.<br />\nAuburn\, MI 48611&nbsp\;<br />\n<br />\n<strong>When:</strong><br />\nOpen House from 3pm-6pm<br />\nRibbon Cutting 4pm<br />\nTuesday\, May 19th\, 2026<br />\n<br />\nThis is free to attend. Registration is not required.</span>
LOCATION:
UID:e.3227.9908
SEQUENCE:3
DTSTAMP:20260423T042808Z
URL:https://www.baycityarea.com/events/details/ribbon-cutting-toni-trish-house-9908
END:VEVENT

END:VCALENDAR
