BEGIN:VCALENDAR
VERSION:2.0
PRODID:-//ChamberMaster//Event Calendar 2.0//EN
METHOD:PUBLISH
X-PUBLISHED-TTL:P3D
REFRESH-INTERVAL:P3D
CALSCALE:GREGORIAN
BEGIN:VEVENT
DTSTART:20210806T224500Z
DTEND:20210807T020000Z
X-MICROSOFT-CDO-ALLDAYEVENT:FALSE
SUMMARY:Run the River 5K
DESCRIPTION:Plan ahead to wrap up your work week at RIVERDAYS\, Friday August 6! Start your evening by working up a sweat with the Run the River 5K\, presented by Preferred Chiropractic of Midland and Greater Midland Races. Run or walk your race with Hot Air Balloons dotting the sky while you make your way to the finish line and your reward! Participants will receive a Pilsner Glass along with a complimentary drink ticket courtesy of Fabiano Brothers for use at the Rotary Craft Beer & Wine Tent. Bring your family and enjoy a full evening of festival excitement! Enjoy zip lining\, the bungee jumper and climbing wall. Wander through the Art Fair and Marker's Market while being entertained by live music. At 9:00PM\, the traditional Balloon Glow will light up Chippewassee Park and then make it a wrap with the outdoor movie behind The H Hotel. Truly an evening full of activities to be shared with friends & family after a long week of work! To register or learn more\; visit GREATERMIDLAND.ORG/RACES and RIVERDAYSMIDLAND.COM. River Days Event Schedule: http://www.riverdaysmidland.com/ *Part of the Midland Triple 5K Challenge Friday\, July 31 at the Tridge from 5-6:45PM. Race Waves Start: 5K Run 6:45PM / 5K Walk 7:10PM Register early for the best deal. For further information\, visit GreaterMidland.org/Races. For race-related questions\, contact Jennifer Adamcik at JAdamcik@GreaterMidland.org or (989)832-7937 ext. 2221. Register | https://bit.ly/3s6AERW
X-ALT-DESC;FMTTYPE=text/html:Plan ahead to wrap up your work week at RIVERDAYS\, Friday August 6! Start your evening by working up a sweat with the Run the River 5K\, presented by Preferred Chiropractic of Midland and Greater Midland Races. Run or walk your race with Hot Air Balloons dotting the sky while you make your way to the finish line and your reward! Participants will receive a Pilsner Glass along with a complimentary drink ticket courtesy of Fabiano Brothers for use at the Rotary Craft Beer &amp\; Wine Tent. Bring your family and enjoy a full evening of festival excitement! Enjoy zip lining\, the bungee jumper and climbing wall. Wander through the Art Fair and Marker&rsquo\;s Market while being entertained by live music. At 9:00PM\, the traditional Balloon Glow will light up Chippewassee Park and then make it a wrap with the outdoor movie behind The H Hotel. Truly an evening full of activities to be shared with friends &amp\; family after a long week of work! To register or learn more\; visit GREATERMIDLAND.ORG/RACES and RIVERDAYSMIDLAND.COM. River Days Event Schedule: http://www.riverdaysmidland.com/ *Part of the Midland Triple 5K Challenge Friday\, July 31 at the Tridge from 5-6:45PM. Race Waves Start: 5K Run 6:45PM / 5K Walk 7:10PM Register early for the best deal. For further information\, visit GreaterMidland.org/Races. For race-related questions\, contact Jennifer Adamcik at JAdamcik@GreaterMidland.org or (989)832-7937 ext. 2221. Register | https://bit.ly/3s6AERW
LOCATION:111 W Main Street\, Midland
UID:e.3227.4769
SEQUENCE:3
DTSTAMP:20260422T075727Z
URL:https://www.baycityarea.com/events/details/run-the-river-5k-08-06-2021-4769
END:VEVENT

END:VCALENDAR
