BEGIN:VCALENDAR
VERSION:2.0
PRODID:-//ChamberMaster//Event Calendar 2.0//EN
METHOD:PUBLISH
X-PUBLISHED-TTL:P3D
REFRESH-INTERVAL:P3D
CALSCALE:GREGORIAN
BEGIN:VEVENT
DTSTART;VALUE=DATE:20260529
DTEND;VALUE=DATE:20260601
TRANSP:TRANSPARENT
X-MICROSOFT-CDO-ALLDAYEVENT:TRUE
SUMMARY:Saginaw Tattoo Festival
DESCRIPTION:Saginaw Tattoo Fest\n\nMay 29   May 31\, 2026\n\nWendler Arena\n\n \n\nFriday\, May 29\, 2026\n\n2   10 pm\n\nTICKETS\n\nSaturday\, May 30\, 2026\n\n12   10 pm\n\nTICKETS\n\nSunday\, May 31\, 2026\n\n12   8 pm\n\nTICKETS\n\nTickets: $20 per day | $25 if purchased day of\n\nWeekend passes available for $50 to come all 3 days!\n\n3-DAY PASS\n\nDoors open when the event starts. \n\nDon't miss the 1st annual Saginaw Tattoo Festival! Get ready for a full weekend of ink\, art\, and energy! The festival offers a selection of tattoo and piercing artists\, live entertainment\, contests\, merch\, and more. Attendees will have the opportunity to get tattooed or pierced from celebrity and local artists alike. Many artists will book in advance\, but there will be opportunities each day to find artists that are taking walk up tattoos on a first come\, first served basis.\n\nWhether you are coming for your first tattoo or your 100th or just to have fun\, we are happy to have you and cannot wait to see you there! More information at MITattooFest.com\, Facebook or Instagram.\n\nFind more information on parking here. Be sure to read about our bag\, prohibited item and cashless policies before attending.\n\nMust be 18 to get a tattoo. 16 & under can get in to the event for free accompanied by an adult. Must pickup a comp ticket at the Box Office. Box Office will open 1 hour prior to the start of the event each day.
X-ALT-DESC;FMTTYPE=text/html:<p>Saginaw Tattoo Fest</p>\n\n<p>May 29 &ndash\; May 31\, 2026</p>\n\n<p>Wendler Arena</p>\n\n<p>&nbsp\;</p>\n\n<p>Friday\, May 29\, 2026<br />\n2 &ndash\; 10 pm<br />\n<a href="https://www.ticketmaster.com/event/0800638BE54297DB" rel="noopener" style="margin: 0px\; padding: 0px\; border: 0px\; outline: 0px\; text-size-adjust: 100%\; vertical-align: baseline\; background-image: initial\; background-position: initial\; background-size: initial\; background-repeat: initial\; background-attachment: initial\; background-origin: initial\; background-clip: initial\; text-decoration-line: none\; box-sizing: border-box !important\; background-color: transparent !important\; color: rgb(51\, 114\, 240) !important\; box-shadow: none !important\;" target="_blank">TICKETS</a></p>\n\n<p>Saturday\, May 30\, 2026<br />\n12 &ndash\; 10 pm<br />\n<a href="https://www.ticketmaster.com/event/0800638BE54797DF" rel="noopener" style="margin: 0px\; padding: 0px\; border: 0px\; outline: 0px\; text-size-adjust: 100%\; vertical-align: baseline\; background-image: initial\; background-position: initial\; background-size: initial\; background-repeat: initial\; background-attachment: initial\; background-origin: initial\; background-clip: initial\; text-decoration-line: none\; box-sizing: border-box !important\; background-color: transparent !important\; color: rgb(51\, 114\, 240) !important\; box-shadow: none !important\;" target="_blank">TICKETS</a></p>\n\n<p>Sunday\, May 31\, 2026<br />\n12 &ndash\; 8 pm<br />\n<a href="https://www.ticketmaster.com/event/0800638BE54B97E3" rel="noopener" style="margin: 0px\; padding: 0px\; border: 0px\; outline: 0px\; text-size-adjust: 100%\; vertical-align: baseline\; background-image: initial\; background-position: initial\; background-size: initial\; background-repeat: initial\; background-attachment: initial\; background-origin: initial\; background-clip: initial\; text-decoration-line: none\; box-sizing: border-box !important\; background-color: transparent !important\; color: rgb(51\, 114\, 240) !important\; box-shadow: none !important\;" target="_blank">TICKETS</a></p>\n\n<p>Tickets: $20 per day | $25 if purchased day of<br />\nWeekend passes available for $50 to come all 3 days!<br />\n<a href="https://www.ticketmaster.com/event/08006392CFC0689D" rel="noopener" style="margin: 0px\; padding: 0px\; border: 0px\; outline: 0px\; text-size-adjust: 100%\; vertical-align: baseline\; background-image: initial\; background-position: initial\; background-size: initial\; background-repeat: initial\; background-attachment: initial\; background-origin: initial\; background-clip: initial\; text-decoration-line: none\; box-sizing: border-box !important\; background-color: transparent !important\; color: rgb(51\, 114\, 240) !important\; box-shadow: none !important\;" target="_blank">3-DAY PASS</a></p>\n\n<p><em>Doors open when the event starts.&nbsp\;</em></p>\n\n<p>Don&rsquo\;t miss the 1st annual Saginaw Tattoo Festival! Get ready for a full weekend of ink\, art\, and energy! The festival offers a selection of tattoo and piercing artists\, live entertainment\, contests\, merch\, and more. Attendees will have the opportunity to get tattooed or pierced from celebrity and local artists alike. Many artists will book in advance\, but there will be opportunities each day to find artists that are taking walk up tattoos on a first come\, first served basis.</p>\n\n<p>Whether you are coming for your first tattoo or your 100th or just to have fun\, we are happy to have you and cannot wait to see you there! More information at&nbsp\;<a href="https://www.mitattoofest.com/" rel="noopener" style="margin: 0px\; padding: 0px\; border: 0px\; outline: 0px\; text-size-adjust: 100%\; vertical-align: baseline\; background-image: initial\; background-position: initial\; background-size: initial\; background-repeat: initial\; background-attachment: initial\; background-origin: initial\; background-clip: initial\; text-decoration-line: none\; box-sizing: border-box !important\; background-color: transparent !important\; color: rgb(51\, 114\, 240) !important\; box-shadow: none !important\;" target="_blank">MITattooFest.com</a>\,&nbsp\;<a href="https://www.facebook.com/profile.php?id=61580564037225" rel="noopener" style="margin: 0px\; padding: 0px\; border: 0px\; outline: 0px\; text-size-adjust: 100%\; vertical-align: baseline\; background-image: initial\; background-position: initial\; background-size: initial\; background-repeat: initial\; background-attachment: initial\; background-origin: initial\; background-clip: initial\; text-decoration-line: none\; box-sizing: border-box !important\; background-color: transparent !important\; color: rgb(51\, 114\, 240) !important\; box-shadow: none !important\;" target="_blank">Facebook</a>&nbsp\;or&nbsp\;<a href="https://www.instagram.com/mitattoofest/" rel="noopener" style="margin: 0px\; padding: 0px\; border: 0px\; outline: 0px\; text-size-adjust: 100%\; vertical-align: baseline\; background-image: initial\; background-position: initial\; background-size: initial\; background-repeat: initial\; background-attachment: initial\; background-origin: initial\; background-clip: initial\; text-decoration-line: none\; box-sizing: border-box !important\; background-color: transparent !important\; color: rgb(51\, 114\, 240) !important\; box-shadow: none !important\;" target="_blank">Instagram</a>.</p>\n\n<p>Find more information on&nbsp\;<a href="https://www.doweventcenter.com/about-the-dow/parking-directions/" style="margin: 0px\; padding: 0px\; border: 0px\; outline: 0px\; text-size-adjust: 100%\; vertical-align: baseline\; background-image: initial\; background-position: initial\; background-size: initial\; background-repeat: initial\; background-attachment: initial\; background-origin: initial\; background-clip: initial\; text-decoration-line: none\; box-sizing: border-box !important\; background-color: transparent !important\; color: rgb(51\, 114\, 240) !important\; box-shadow: none !important\;">parking here</a>. Be sure to read about our&nbsp\;<a href="https://www.doweventcenter.com/about-the-dow/security-bags-cashless-policy/" style="margin: 0px\; padding: 0px\; border: 0px\; outline: 0px\; text-size-adjust: 100%\; vertical-align: baseline\; background-image: initial\; background-position: initial\; background-size: initial\; background-repeat: initial\; background-attachment: initial\; background-origin: initial\; background-clip: initial\; text-decoration-line: none\; box-sizing: border-box !important\; background-color: transparent !important\; color: rgb(51\, 114\, 240) !important\; box-shadow: none !important\;">bag\, prohibited item and cashless</a>&nbsp\;policies before attending.</p>\n\n<p>Must be 18 to get a tattoo. 16 &amp\; under can get in to the event for free accompanied by an adult. Must pickup a comp ticket at the Box Office.&nbsp\;<a href="https://www.doweventcenter.com/about-the-dow/box-office-and-business-hours-at-the-dow-event-center/" style="margin: 0px\; padding: 0px\; border: 0px\; outline: 0px\; text-size-adjust: 100%\; vertical-align: baseline\; background-image: initial\; background-position: initial\; background-size: initial\; background-repeat: initial\; background-attachment: initial\; background-origin: initial\; background-clip: initial\; text-decoration-line: none\; box-sizing: border-box !important\; background-color: transparent !important\; color: rgb(51\, 114\, 240) !important\; box-shadow: none !important\;">Box Office</a>&nbsp\;will open 1 hour prior to the start of the event each day.</p>\n
LOCATION:The Dow Event Center 303 Johnson Street Saginaw\, MI 48607
UID:e.3227.9783
SEQUENCE:3
DTSTAMP:20260421T051801Z
URL:https://www.baycityarea.com/events/details/saginaw-tattoo-festival-9783
END:VEVENT

END:VCALENDAR
