BEGIN:VCALENDAR
VERSION:2.0
PRODID:-//ChamberMaster//Event Calendar 2.0//EN
METHOD:PUBLISH
X-PUBLISHED-TTL:P3D
REFRESH-INTERVAL:P3D
CALSCALE:GREGORIAN
BEGIN:VEVENT
DTSTART:20220923T233000Z
DTEND:20221002T190000Z
X-MICROSOFT-CDO-ALLDAYEVENT:FALSE
SUMMARY:Something Rotten
DESCRIPTION:Bay City Players presents Something Rotten! book by Karey Kirkpatrick & John O'Farrell\, music and lyrics by Wayne Kirkpatrick and Karey Kirkpatrick\, September 23-25 & September 30-October 2\, 2022 (Fridays & Saturdays- 7:30 PM & Sundays- 3:00 PM) at Bay City Players\, 1214 Columbus Ave.\, Bay City\, MI. One of the best musical comedies to come from Broadway in the last few years. The Bottom Brothers\, Nick and Nigel\, desperately want to write a hit play\, but find themselves in the shadow of "The Bard"\, a Renaissance rockstar. Along comes a local soothsayer who looks into the future and sees Singing! Not singing! Dancing! Not dancing! Acting! Not acting! All wrapped up in one play. So\, the Bottom Brothers step into a world they know nothing about musicals. Once they step into the musical world\, chaos reigns and the audience has a fabulous musical on hand. Oh\, keep an eye out for the tap-dancing eggs. Rated PG-13. Mature content and sexual innuendo. SOMETHING ROTTEN! is presented through special arrangement with Music Theatre International (MTI). All authorized performance materials are also supplied by MTI. www.mtishows.com
X-ALT-DESC;FMTTYPE=text/html:Bay City Players presents Something Rotten! book by Karey Kirkpatrick &amp\; John O&#39\;Farrell\, music and lyrics by Wayne Kirkpatrick and Karey Kirkpatrick\, September 23-25 &amp\; September 30-October 2\, 2022 (Fridays &amp\; Saturdays- 7:30 PM &amp\; Sundays- 3:00 PM) at Bay City Players\, 1214 Columbus Ave.\, Bay City\, MI. One of the best musical comedies to come from Broadway in the last few years. The Bottom Brothers\, Nick and Nigel\, desperately want to write a hit play\, but find themselves in the shadow of &quot\;The Bard&quot\;\, a Renaissance rockstar. Along comes a local soothsayer who looks into the future and sees Singing! Not singing! Dancing! Not dancing! Acting! Not acting! All wrapped up in one play. So\, the Bottom Brothers step into a world they know nothing about&mdash\;musicals. Once they step into the musical world\, chaos reigns and the audience has a fabulous musical on hand. Oh\, keep an eye out for the tap-dancing eggs. Rated PG-13. Mature content and sexual innuendo. SOMETHING ROTTEN! is presented through special arrangement with Music Theatre International (MTI). All authorized performance materials are also supplied by MTI. www.mtishows.com
LOCATION:1214 Columbus Avenue Bay City\, MI 48708
UID:e.3227.5526
SEQUENCE:3
DTSTAMP:20260422T183107Z
URL:https://www.baycityarea.com/events/details/something-rotten-5526
END:VEVENT

END:VCALENDAR
