BEGIN:VCALENDAR
VERSION:2.0
PRODID:-//ChamberMaster//Event Calendar 2.0//EN
METHOD:PUBLISH
X-PUBLISHED-TTL:P3D
REFRESH-INTERVAL:P3D
CALSCALE:GREGORIAN
BEGIN:VEVENT
DTSTART:20261028T151500Z
DTEND:20261028T170000Z
X-MICROSOFT-CDO-ALLDAYEVENT:FALSE
SUMMARY:State of Education Luncheon
DESCRIPTION:The State of Education gives members an insight into the status of the education system in Bay County. \n\n\n\nFeaturing:\n\nTBD\n\n\n\nDate/Time:\n\nWednesday\, October 28th\, 2025\n\n11:15 am - 1:00 pm\n\n\n\nRegistration\, Networking & Lunch begins at 11:15 am\n\nProgram begins at 11:45 am\n\n\n\nWhere:\n\nDoubleTree by Hilton Bay City-Riverfront\n\nOne Wenonah Park Place\, Bay City\, MI 48708\n\n\n\nIf you're interested in sponsoring this event\, reach out to Lily West at lily@baycityarea.com or (989) 893-4567 ex. 229.\n\n\n\nAll sponsorships include inclusion in all promotional materials and recognition from the podium.
X-ALT-DESC;FMTTYPE=text/html:<div style="text-align: center\;">&nbsp\;</div>\n<span style="color:#000000\;"><span style="font-size:14px\;"><span style="font-family:arial\;">The State of Education gives members an insight into the status of the education system in Bay County.&nbsp\;<br />\n<br />\n<strong><u>Featuring:</u></strong></span></span></span><br />\n<span style="color:#000000\;"><span style="font-size:14px\;"><span style="font-family:arial\;">TBD<br style="color: rgb(0\, 0\, 0)\; font-family: arial\; font-size: 14px\;" />\n<br style="color: rgb(0\, 0\, 0)\; font-family: arial\; font-size: 14px\;" />\n<strong><u style="color: rgb(0\, 0\, 0)\; font-family: arial\; font-size: 14px\;">Date/Time:</u></strong><br style="color: rgb(0\, 0\, 0)\; font-family: arial\; font-size: 14px\;" />\nWednesday\, October 28th\, 2025<br style="color: rgb(0\, 0\, 0)\;" />\n11:15 am - 1:00 pm<br style="color: rgb(0\, 0\, 0)\;" />\n<br />\n<em style="color: rgb(0\, 0\, 0)\;">Registration\, Networking &amp\; Lunch begins at 11:15 am<br />\nProgram begins at 11:45 am</em></span></span></span><br />\n<br />\n<strong style="color: rgb(0\, 0\, 0)\; font-family: arial\; font-size: 14px\;"><u>Where:</u></strong><br style="color: rgb(0\, 0\, 0)\; font-family: arial\; font-size: 14px\;" />\n<span style="color: rgb(0\, 0\, 0)\; font-family: arial\; font-size: 14px\;">DoubleTree by Hilton Bay City-Riverfront</span><br style="color: rgb(0\, 0\, 0)\; font-family: arial\; font-size: 14px\;" />\n<span style="color: rgb(0\, 0\, 0)\; font-family: arial\; font-size: 14px\;">One Wenonah Park Place\,&nbsp\;Bay City\, MI 48708</span><br />\n<br />\n<span style="color:#000000\;"><span style="font-size:14px\;"><span style="font-family:arial\;">If you&#39\;re interested in sponsoring this event\, reach out to Lily West at lily@baycityarea.com or (989) 893-4567 ex. 229.<br />\n<br />\n<em style="color: rgb(0\, 0\, 0)\; font-family: arial\; font-size: 14px\;">All sponsorships include inclusion in all promotional materials and recognition from the podium.</em></span></span></span><br />\n&nbsp\;
LOCATION:
UID:e.3227.9181
SEQUENCE:3
DTSTAMP:20260421T122459Z
URL:https://www.baycityarea.com/events/details/state-of-education-luncheon-9181
END:VEVENT

END:VCALENDAR
