BEGIN:VCALENDAR
VERSION:2.0
PRODID:-//ChamberMaster//Event Calendar 2.0//EN
METHOD:PUBLISH
X-PUBLISHED-TTL:P3D
REFRESH-INTERVAL:P3D
CALSCALE:GREGORIAN
BEGIN:VEVENT
DTSTART:20190817T160000Z
DTEND:20190817T160000Z
X-MICROSOFT-CDO-ALLDAYEVENT:FALSE
SUMMARY:Superhero Day at Mid-Michigan Children's Museum
DESCRIPTION:Dress up like your favorite superhero and fly on over for some super fun! Make your own superhero cape and mask\, meet superheroes\, experiment with bubble force fields and play superhero themed activities. With regular paid admission. MMCM members are free. Includes all day gallery play.
X-ALT-DESC;FMTTYPE=text/html:Dress up like your favorite superhero and fly on over for some super fun! Make your own superhero cape and mask\, meet superheroes\, experiment with bubble force fields and play superhero themed activities. With regular paid admission. MMCM members are free. Includes all day gallery play.
LOCATION:Mid-Michigan Children's Museum\, 315 W. Genesee Ave\, Saginaw\, MI 48602\, USA
UID:e.3227.4021
SEQUENCE:3
DTSTAMP:20260421T202846Z
URL:https://www.baycityarea.com/events/details/superhero-day-at-mid-michigan-children-s-museum-4021
END:VEVENT

END:VCALENDAR
