BEGIN:VCALENDAR
VERSION:2.0
PRODID:-//ChamberMaster//Event Calendar 2.0//EN
METHOD:PUBLISH
X-PUBLISHED-TTL:P3D
REFRESH-INTERVAL:P3D
CALSCALE:GREGORIAN
BEGIN:VEVENT
DTSTART:20191120T180000Z
DTEND:20191120T183000Z
X-MICROSOFT-CDO-ALLDAYEVENT:FALSE
SUMMARY:Toddler Time
DESCRIPTION:Sing\, dance\, create and explore with us! Bring your toddler (children up to 4 years old) and enjoy projects targeting them right where they are at developmentally.
X-ALT-DESC;FMTTYPE=text/html:Sing\, dance\, create and explore with us! Bring your toddler (children up to 4 years old) and enjoy projects targeting them right where they are at developmentally.
LOCATION:Mid-Michigan Children's Museum
UID:e.3227.4184
SEQUENCE:3
DTSTAMP:20260421T214951Z
URL:https://www.baycityarea.com/events/details/toddler-time-11-20-2019-4184
END:VEVENT

END:VCALENDAR
