BEGIN:VCALENDAR
VERSION:2.0
PRODID:-//ChamberMaster//Event Calendar 2.0//EN
METHOD:PUBLISH
X-PUBLISHED-TTL:P3D
REFRESH-INTERVAL:P3D
CALSCALE:GREGORIAN
BEGIN:VEVENT
DTSTART:20260307T003000Z
DTEND:20260308T003000Z
X-MICROSOFT-CDO-ALLDAYEVENT:FALSE
SUMMARY:Toughest Monster Truck Tour
DESCRIPTION:Friday\, March 6\, 2026\n\nPit Party from 5:30-6:30pm\n\nMain Event at 7:30pm\n\nSaturday\, March 7\, 2026\n\nAfternoon Show\n\nPit Party from 10:45am-12Noon\n\nMain Event at 1pm\n\nSaturday March 7\, 2025\n\nEvening Show\n\nPit Party from 5:15-6:30pm\n\nMain Event at 7:30pm\n\nDoors open 1 hour prior to Main Event for fans without pit passes.\n\nPit Party: Meet the drivers\, get autographs\, take photos and touch the trucks!\n\nPIT PASSES ARE FREE THROUGH DECEMBER 21! Starting Dec. 22\, Pit Passes are $15 at all points of purchase or FREE at Graff Chevrolet Bay City\, located at 3636 Wilder Road\, Bay City\, MI 48706.\n\nMain Event Lineup: 2024 and 2025 Tour Champion DIRT CREW and Jerry Beck   the monster-sized dump truck that always goes big! The gigantic building block project\, Blockhead. Back by popular demand\, Dozer and Maximus! And the dinosaur-themed Jurassic Attack and Velociraptor!\n\n*Lineup subject to change without notice.\n\nSpecial Offers:\n\n\n	Discounted Family 4-packs available for both evening performances. Not available for Saturday afternoon show.\n	Discounted tickets available for groups of 10 or more available by calling 989-759-1320.\n	Military discounts ($5 off) are available in person at the Box Office with a valid Military ID (available for active military and veterans)
X-ALT-DESC;FMTTYPE=text/html:<p>Friday\, March 6\, 2026<br />\nPit Party from 5:30-6:30pm<br />\nMain Event at 7:30pm</p>\n\n<p>Saturday\, March 7\, 2026<br />\nAfternoon Show<br />\nPit Party from 10:45am-12Noon<br />\nMain Event at 1pm</p>\n\n<p>Saturday March 7\, 2025<br />\nEvening Show<br />\nPit Party from 5:15-6:30pm<br />\nMain Event at 7:30pm</p>\n\n<p><em>Doors open 1 hour prior to Main Event for fans without pit passes.</em></p>\n\n<p>Pit Party: Meet the drivers\, get autographs\, take photos and touch the trucks!<br />\nPIT PASSES ARE FREE THROUGH DECEMBER 21! Starting Dec. 22\, Pit Passes are $15 at all points of purchase or FREE at Graff Chevrolet Bay City\, located at 3636 Wilder Road\, Bay City\, MI 48706.</p>\n\n<p>Main Event Lineup: 2024 and 2025 Tour Champion DIRT CREW and Jerry Beck &ndash\; the monster-sized dump truck that always goes big! The gigantic building block project\, Blockhead. Back by popular demand\, Dozer and Maximus! And the dinosaur-themed Jurassic Attack and Velociraptor!<br />\n<em>*Lineup subject to change without notice.</em></p>\n\n<p>Special Offers:</p>\n\n<ul style="margin-left:0px\; margin-right:0px">\n	<li>Discounted Family 4-packs available for both evening performances. Not available for Saturday afternoon show.</li>\n	<li>Discounted tickets available for groups of 10 or more available by calling 989-759-1320.</li>\n	<li>Military discounts ($5 off) are available in person at the Box Office with a valid Military ID (available for active military and veterans)</li>\n</ul>\n
LOCATION:The Dow Event Center Wendler Arena 303 Johnson Street Saginaw\, MI 48607
UID:e.3227.9224
SEQUENCE:3
DTSTAMP:20260420T080814Z
URL:https://www.baycityarea.com/events/details/toughest-monster-truck-tour-03-06-2026-9224
END:VEVENT

END:VCALENDAR
